{"text_format":"1","workbook":"xlsx","n_sheets":4,"sheets":["男子エントリー","女子エントリー","参加人数集計","データテーブル"],"not_rendered":{"charts":0,"images":2,"macros":0,"external_links":0,"defined_names":2,"comments":3,"pivot_tables":0},"unopened":[],"bounds":{"document_bytes":16777216,"sheet_cells":100000,"rows_first":2000,"rows_last":500,"rows_between":2000,"halvings":0,"cell_chars":16384,"cell_head_chars":4096},"cells_cut":0,"cells_raw":0,"read":"whole","date_system":"1900"}

{"sheet":"男子エントリー","index":0,"n_rows":41,"n_cols":32,"rows_kept":41,"cut":false,"hidden":false,"merged":[[24,0,31,0],[8,0,8,1],[14,0,23,0],[40,21,40,29],[38,1,38,2],[40,8,40,18],[34,0,34,30],[36,0,36,30],[40,19,40,20],[32,0,32,1],[14,2,14,7],[15,2,15,7],[16,2,16,7],[17,2,17,7],[18,2,18,7],[19,2,19,7],[0,0,0,27],[0,28,1,31],[4,22,4,30],[5,0,5,1],[5,20,5,21],[5,22,5,30],[4,3,4,16],[5,3,5,16],[2,3,2,19],[2,20,2,30],[3,17,4,19],[5,17,6,19],[3,3,3,16],[2,0,2,1],[3,0,4,1],[3,20,3,21],[3,22,3,30],[4,20,4,21],[6,0,6,1],[6,20,6,21],[6,22,6,30],[6,3,6,16],[8,24,8,30],[8,17,8,23],[9,0,13,1],[8,2,8,7],[9,2,9,7],[10,2,10,7],[11,2,11,7],[12,2,12,7],[13,2,13,7],[28,2,28,7],[29,2,29,7],[20,2,20,7],[21,2,21,7],[22,2,22,7],[23,2,23,7],[24,2,24,7],[30,2,30,7],[31,2,31,7],[32,2,32,7],[8,8,8,13],[9,8,9,13],[10,8,10,13],[11,8,11,13],[12,8,12,13],[13,8,13,13],[25,2,25,7],[26,2,26,7],[27,2,27,7],[16,8,16,13],[17,8,17,13],[18,8,18,13],[19,8,19,13],[20,8,20,13],[14,8,14,13],[15,8,15,13],[31,8,31,13],[32,8,32,13],[26,8,26,13],[27,8,27,13],[28,8,28,13],[29,8,29,13],[30,8,30,13],[21,8,21,13],[22,8,22,13],[23,8,23,13],[24,8,24,13],[25,8,25,13]]}
["３０　少林寺拳法競技　参加申込書　（総体）",null,null,null,null,null,null,null,null,null,null,null,null,null,null,null,null,null,null,null,null,null,null,null,null,null,null,null,"男子"]
[]
["学校名"]
["学校所在地",null,"〒",{"$f":"IF($D$3=\"\",\"\",VLOOKUP($D$3,データテーブル!$A$2:$F$4,3,0))","v":""},null,null,null,null,null,null,null,null,null,null,null,null,null,"監　督",null,null,"氏名"]
[null,null,null,{"$f":"IF($D$3=\"\",\"\",VLOOKUP($D$3,データテーブル!$A$2:$F$4,4,0))","v":""},null,null,null,null,null,null,null,null,null,null,null,null,null,null,null,null,"ＴＥＬ"]
["ＴＥＬ",null,null,{"$f":"IF($D$3=\"\",\"\",VLOOKUP($D$3,データテーブル!$A$2:$F$4,5,0))","v":""},null,null,null,null,null,null,null,null,null,null,null,null,null,"引率教員",null,null,"氏名"]
["ＦＡＸ",null,null,{"$f":"IF($D$3=\"\",\"\",VLOOKUP($D$3,データテーブル!$A$2:$F$4,6,0))","v":""},null,null,null,null,null,null,null,null,null,null,null,null,null,null,null,null,"ＴＥＬ"]
[]
["出場種目",null,"選手名",null,null,null,null,null,"フリガナ",null,null,null,null,null,"性別","学年","資格","生年月日",null,null,null,null,null,null,"入学（転入）年月日"]
["単独演武",null,null,null,null,null,null,null,{"$f":"PHONETIC(C10)","v":""},null,null,null,null,null,{"$f":"IF(C10=\"\",\"\",データテーブル!$H$1)","v":""},null,null,{"$f":"IF(P10=\"\",\"\",\"H\")","v":""},null,"年",null,"月",null,"日",{"$f":"IF(P10=3,\"H\",IF(P10=2,\"R\",IF(P10=1,\"R\",\"\")))","v":""},{"$f":"IF(P10=3,31,IF(P10=2,2,IF(P10=1,3,\"\")))","v":""},"年",{"$f":"IF(P10=\"\",\"\",4)","v":""},"月",{"$f":"IF(P10=\"\",\"\",10)","v":""},"日"]
[null,null,null,null,null,null,null,null,"",null,null,null,null,null,{"$f":"IF(C11=\"\",\"\",データテーブル!$H$1)","v":""},null,null,"",null,"年",null,"月",null,"日","","","年","","月","","日"]
[null,null,null,null,null,null,null,null,"",null,null,null,null,null,{"$f":"IF(C12=\"\",\"\",データテーブル!$H$1)","v":""},null,null,"",null,"年",null,"月",null,"日","","","年","","月","","日"]
[null,null,null,null,null,null,null,null,{"$f":"PHONETIC(C13)","v":""},null,null,null,null,null,{"$f":"IF(C13=\"\",\"\",データテーブル!$H$1)","v":""},null,null,"",null,"年",null,"月",null,"日","","","年","","月","","日"]
[null,null,null,null,null,null,null,null,"",null,null,null,null,null,{"$f":"IF(C14=\"\",\"\",データテーブル!$H$1)","v":""},null,null,"",null,"年",null,"月",null,"日","","","年","","月","","日"]
["組演武",1,null,null,null,null,null,null,"",null,null,null,null,null,{"$f":"IF(C15=\"\",\"\",データテーブル!$H$1)","v":""},null,null,"",null,"年",null,"月",null,"日","","","年",{"$f":"IF(P15=\"\",\"\",4)","v":""},"月",{"$f":"IF(P15=\"\",\"\",10)","v":""},"日"]
[null,2,null,null,null,null,null,null,"",null,null,null,null,null,{"$f":"IF(C16=\"\",\"\",データテーブル!$H$1)","v":""},null,null,"",null,"年",null,"月",null,"日","","","年","","月","","日"]
[null,1,null,null,null,null,null,null,"",null,null,null,null,null,{"$f":"IF(C17=\"\",\"\",データテーブル!$H$1)","v":""},null,null,"",null,"年",null,"月",null,"日","","","年","","月","","日"]
[null,2,null,null,null,null,null,null,"",null,null,null,null,null,{"$f":"IF(C18=\"\",\"\",データテーブル!$H$1)","v":""},null,null,"",null,"年",null,"月",null,"日","","","年","","月","","日"]
[null,1,null,null,null,null,null,null,"",null,null,null,null,null,{"$f":"IF(C19=\"\",\"\",データテーブル!$H$1)","v":""},null,null,"",null,"年",null,"月",null,"日","","","年","","月","","日"]
[null,2,null,null,null,null,null,null,"",null,null,null,null,null,{"$f":"IF(C20=\"\",\"\",データテーブル!$H$1)","v":""},null,null,"",null,"年",null,"月",null,"日","","","年","","月","","日"]
[null,1,null,null,null,null,null,null,"",null,null,null,null,null,{"$f":"IF(C21=\"\",\"\",データテーブル!$H$1)","v":""},null,null,"",null,"年",null,"月",null,"日","","","年","","月","","日"]
[null,2,null,null,null,null,null,null,"",null,null,null,null,null,{"$f":"IF(C22=\"\",\"\",データテーブル!$H$1)","v":""},null,null,"",null,"年",null,"月",null,"日","","","年","","月","","日"]
[null,1,null,null,null,null,null,null,"",null,null,null,null,null,{"$f":"IF(C23=\"\",\"\",データテーブル!$H$1)","v":""},null,null,"",null,"年",null,"月",null,"日","","","年",{"$f":"IF(P23=\"\",\"\",4)","v":""},"月",{"$f":"IF(P23=\"\",\"\",10)","v":""},"日"]
[null,2,null,null,null,null,null,null,"",null,null,null,null,null,{"$f":"IF(C24=\"\",\"\",データテーブル!$H$1)","v":""},null,null,"",null,"年",null,"月",null,"日","","","年","","月","","日","重複"]
["団体演武",1,null,null,null,null,null,null,"",null,null,null,null,null,{"$f":"IF(C25=\"\",\"\",データテーブル!$H$1)","v":""},null,null,"",null,"年",null,"月",null,"日","","","年","","月","","日"]
[null,2,null,null,null,null,null,null,"",null,null,null,null,null,{"$f":"IF(C26=\"\",\"\",データテーブル!$H$1)","v":""},null,null,"",null,"年",null,"月",null,"日","","","年","","月","","日"]
[null,3,null,null,null,null,null,null,"",null,null,null,null,null,{"$f":"IF(C27=\"\",\"\",データテーブル!$H$1)","v":""},null,null,"",null,"年",null,"月",null,"日","","","年","","月","","日"]
[null,4,null,null,null,null,null,null,"",null,null,null,null,null,{"$f":"IF(C28=\"\",\"\",データテーブル!$H$1)","v":""},null,null,"",null,"年",null,"月",null,"日","","","年","","月","","日"]
[null,5,null,null,null,null,null,null,"",null,null,null,null,null,{"$f":"IF(C29=\"\",\"\",データテーブル!$H$1)","v":""},null,null,"",null,"年",null,"月",null,"日","","","年","","月","","日"]
[null,6,null,null,null,null,null,null,"",null,null,null,null,null,{"$f":"IF(C30=\"\",\"\",データテーブル!$H$1)","v":""},null,null,"",null,"年",null,"月",null,"日","","","年","","月","","日"]
[null,7,null,null,null,null,null,null,"",null,null,null,null,null,{"$f":"IF(C31=\"\",\"\",データテーブル!$H$1)","v":""},null,null,"",null,"年",null,"月",null,"日","","","年","","月","","日"]
[null,8,null,null,null,null,null,null,"",null,null,null,null,null,{"$f":"IF(C32=\"\",\"\",データテーブル!$H$1)","v":""},null,null,"",null,"年",null,"月",null,"日","","","年","","月","","日"]
["ﾏﾈｰｼﾞｬｰ",null,null,null,null,null,null,null,"",null,null,null,null,null,{"$f":"IF(C33=\"\",\"\",データテーブル!$H$2)","v":""},null,null,"",null,"年",null,"月",null,"日","","","年","","月","","日"]
[]
["上記の者は本校在学生で、本大会に出場することを認め、参加申込致します。"]
[]
["高体連個人情報に関する取り扱いについては、本大会要項の記載事項を承諾の上で、参加申し込みすることを同意します。"]
[]
[null,"令和",null,4,"年",null,"月",null,"日"]
[]
[null,null,null,null,null,null,null,null,{"$f":"IF($D$3=\"\",\"\",$D$3)","v":""},null,null,null,null,null,null,null,null,null,null,"校長",null,null,null,null,null,null,null,null,null,null,"印"]

{"sheet":"女子エントリー","index":1,"n_rows":41,"n_cols":32,"rows_kept":41,"cut":false,"hidden":false,"merged":[[0,0,0,27],[0,28,1,31],[2,0,2,1],[2,3,2,19],[2,20,2,30],[3,0,4,1],[3,3,3,16],[3,17,4,19],[3,20,3,21],[3,22,3,30],[4,3,4,16],[4,20,4,21],[4,22,4,30],[8,0,8,1],[8,2,8,7],[8,8,8,13],[8,17,8,23],[8,24,8,30],[5,0,5,1],[5,3,5,16],[5,17,6,19],[5,20,5,21],[5,22,5,30],[6,0,6,1],[6,3,6,16],[6,20,6,21],[6,22,6,30],[19,8,19,13],[20,2,20,7],[20,8,20,13],[9,0,13,1],[9,2,9,7],[9,8,9,13],[10,2,10,7],[10,8,10,13],[11,2,11,7],[11,8,11,13],[12,2,12,7],[12,8,12,13],[13,2,13,7],[13,8,13,13],[28,2,28,7],[28,8,28,13],[21,2,21,7],[21,8,21,13],[14,0,23,0],[14,2,14,7],[14,8,14,13],[15,2,15,7],[15,8,15,13],[16,2,16,7],[16,8,16,13],[17,2,17,7],[17,8,17,13],[18,2,18,7],[18,8,18,13],[19,2,19,7],[22,2,22,7],[22,8,22,13],[23,2,23,7],[23,8,23,13],[24,2,24,7],[24,8,24,13],[34,0,34,30],[36,0,36,30],[38,1,38,2],[40,8,40,18],[40,19,40,20],[40,21,40,29],[30,2,30,7],[30,8,30,13],[31,2,31,7],[31,8,31,13],[32,0,32,1],[32,2,32,7],[32,8,32,13],[24,0,31,0],[29,2,29,7],[29,8,29,13],[25,2,25,7],[25,8,25,13],[26,2,26,7],[26,8,26,13],[27,2,27,7],[27,8,27,13]]}
["３０　少林寺拳法競技　参加申込書　（総体）",null,null,null,null,null,null,null,null,null,null,null,null,null,null,null,null,null,null,null,null,null,null,null,null,null,null,null,"女子"]
[]
["学校名"]
["学校所在地",null,"〒",{"$f":"IF($D$3=\"\",\"\",VLOOKUP($D$3,データテーブル!$A$2:$F$4,3,0))","v":""},null,null,null,null,null,null,null,null,null,null,null,null,null,"監　督",null,null,"氏名"]
[null,null,null,{"$f":"IF($D$3=\"\",\"\",VLOOKUP($D$3,データテーブル!$A$2:$F$4,4,0))","v":""},null,null,null,null,null,null,null,null,null,null,null,null,null,null,null,null,"ＴＥＬ"]
["ＴＥＬ",null,null,{"$f":"IF($D$3=\"\",\"\",VLOOKUP($D$3,データテーブル!$A$2:$F$4,5,0))","v":""},null,null,null,null,null,null,null,null,null,null,null,null,null,"引率教員",null,null,"氏名"]
["ＦＡＸ",null,null,{"$f":"IF($D$3=\"\",\"\",VLOOKUP($D$3,データテーブル!$A$2:$F$4,6,0))","v":""},null,null,null,null,null,null,null,null,null,null,null,null,null,null,null,null,"ＴＥＬ"]
[]
["出場種目",null,"選手名",null,null,null,null,null,"フリガナ",null,null,null,null,null,"性別","学年","資格","生年月日",null,null,null,null,null,null,"入学（転入）年月日"]
["単独演武",null,null,null,null,null,null,null,{"$f":"PHONETIC(C10)","v":""},null,null,null,null,null,{"$f":"IF(C10=\"\",\"\",データテーブル!$H$2)","v":""},null,null,{"$f":"IF(P10=\"\",\"\",\"H\")","v":""},null,"年",null,"月",null,"日",{"$f":"IF(P10=3,\"H\",IF(P10=2,\"R\",IF(P10=1,\"R\",\"\")))","v":""},{"$f":"IF(P10=3,31,IF(P10=2,2,IF(P10=1,3,\"\")))","v":""},"年",{"$f":"IF(P10=\"\",\"\",4)","v":""},"月",{"$f":"IF(P10=\"\",\"\",10)","v":""},"日"]
[null,null,null,null,null,null,null,null,"",null,null,null,null,null,{"$f":"IF(C11=\"\",\"\",データテーブル!$H$2)","v":""},null,null,"",null,"年",null,"月",null,"日","","","年","","月","","日"]
[null,null,null,null,null,null,null,null,"",null,null,null,null,null,{"$f":"IF(C12=\"\",\"\",データテーブル!$H$2)","v":""},null,null,"",null,"年",null,"月",null,"日","","","年","","月","","日"]
[null,null,null,null,null,null,null,null,{"$f":"PHONETIC(C13)","v":""},null,null,null,null,null,{"$f":"IF(C13=\"\",\"\",データテーブル!$H$2)","v":""},null,null,"",null,"年",null,"月",null,"日","","","年","","月","","日"]
[null,null,null,null,null,null,null,null,"",null,null,null,null,null,{"$f":"IF(C14=\"\",\"\",データテーブル!$H$2)","v":""},null,null,"",null,"年",null,"月",null,"日","","","年","","月","","日"]
["組演武",1,null,null,null,null,null,null,"",null,null,null,null,null,{"$f":"IF(C15=\"\",\"\",データテーブル!$H$2)","v":""},null,null,"",null,"年",null,"月",null,"日","","","年","","月","","日"]
[null,2,null,null,null,null,null,null,"",null,null,null,null,null,{"$f":"IF(C16=\"\",\"\",データテーブル!$H$2)","v":""},null,null,"",null,"年",null,"月",null,"日","","","年","","月","","日"]
[null,1,null,null,null,null,null,null,"",null,null,null,null,null,{"$f":"IF(C17=\"\",\"\",データテーブル!$H$2)","v":""},null,null,"",null,"年",null,"月",null,"日","","","年","","月","","日"]
[null,2,null,null,null,null,null,null,"",null,null,null,null,null,{"$f":"IF(C18=\"\",\"\",データテーブル!$H$2)","v":""},null,null,"",null,"年",null,"月",null,"日","","","年","","月","","日"]
[null,1,null,null,null,null,null,null,"",null,null,null,null,null,{"$f":"IF(C19=\"\",\"\",データテーブル!$H$2)","v":""},null,null,"",null,"年",null,"月",null,"日","","","年","","月","","日"]
[null,2,null,null,null,null,null,null,"",null,null,null,null,null,{"$f":"IF(C20=\"\",\"\",データテーブル!$H$2)","v":""},null,null,"",null,"年",null,"月",null,"日","","","年","","月","","日"]
[null,1,null,null,null,null,null,null,"",null,null,null,null,null,{"$f":"IF(C21=\"\",\"\",データテーブル!$H$2)","v":""},null,null,"",null,"年",null,"月",null,"日","","","年","","月","","日"]
[null,2,null,null,null,null,null,null,"",null,null,null,null,null,{"$f":"IF(C22=\"\",\"\",データテーブル!$H$2)","v":""},null,null,"",null,"年",null,"月",null,"日","","","年","","月","","日"]
[null,1,null,null,null,null,null,null,"",null,null,null,null,null,{"$f":"IF(C23=\"\",\"\",データテーブル!$H$2)","v":""},null,null,"",null,"年",null,"月",null,"日","","","年","","月","","日"]
[null,2,null,null,null,null,null,null,"",null,null,null,null,null,{"$f":"IF(C24=\"\",\"\",データテーブル!$H$2)","v":""},null,null,"",null,"年",null,"月",null,"日","","","年","","月","","日","重複"]
["団体演武",1,null,null,null,null,null,null,"",null,null,null,null,null,{"$f":"IF(C25=\"\",\"\",データテーブル!$H$2)","v":""},null,null,"",null,"年",null,"月",null,"日","","","年","","月","","日"]
[null,2,null,null,null,null,null,null,"",null,null,null,null,null,{"$f":"IF(C26=\"\",\"\",データテーブル!$H$2)","v":""},null,null,"",null,"年",null,"月",null,"日","","","年","","月","","日"]
[null,3,null,null,null,null,null,null,"",null,null,null,null,null,{"$f":"IF(C27=\"\",\"\",データテーブル!$H$2)","v":""},null,null,"",null,"年",null,"月",null,"日","","","年","","月","","日"]
[null,4,null,null,null,null,null,null,"",null,null,null,null,null,{"$f":"IF(C28=\"\",\"\",データテーブル!$H$2)","v":""},null,null,"",null,"年",null,"月",null,"日","","","年","","月","","日"]
[null,5,null,null,null,null,null,null,"",null,null,null,null,null,{"$f":"IF(C29=\"\",\"\",データテーブル!$H$2)","v":""},null,null,"",null,"年",null,"月",null,"日","","","年","","月","","日"]
[null,6,null,null,null,null,null,null,"",null,null,null,null,null,{"$f":"IF(C30=\"\",\"\",データテーブル!$H$2)","v":""},null,null,"",null,"年",null,"月",null,"日","","","年","","月","","日"]
[null,7,null,null,null,null,null,null,"",null,null,null,null,null,{"$f":"IF(C31=\"\",\"\",データテーブル!$H$2)","v":""},null,null,"",null,"年",null,"月",null,"日","","","年","","月","","日"]
[null,8,null,null,null,null,null,null,"",null,null,null,null,null,{"$f":"IF(C32=\"\",\"\",データテーブル!$H$2)","v":""},null,null,"",null,"年",null,"月",null,"日","","","年","","月","","日"]
["ﾏﾈｰｼﾞｬｰ",null,null,null,null,null,null,null,"",null,null,null,null,null,{"$f":"IF(C33=\"\",\"\",データテーブル!$H$2)","v":""},null,null,"",null,"年",null,"月",null,"日","","","年","","月","","日"]
[]
["上記の者は本校在学生で、本大会に出場することを認め、参加申込致します。"]
[]
["高体連個人情報に関する取り扱いについては、本大会要項の記載事項を承諾の上で、参加申し込みすることを同意します。"]
[]
[null,"令和",null,4,"年",null,"月",null,"日"]
[]
[null,null,null,null,null,null,null,null,{"$f":"IF($D$3=\"\",\"\",$D$3)","v":""},null,null,null,null,null,null,null,null,null,null,"校長",null,null,null,null,null,null,null,null,null,null,"印"]

{"sheet":"参加人数集計","index":2,"n_rows":8,"n_cols":5,"rows_kept":8,"cut":false,"hidden":false,"merged":[[0,0,1,3]]}
[{"$f":"男子エントリー!D3","v":0}]
[]
[null,"男子","女子","合計","備　　　考"]
["単独演武",{"$f":"COUNTA(男子エントリー!$C$10:$H$14)","v":0},{"$f":"COUNTA(女子エントリー!$C$10:$H$14)","v":0},{"$f":"SUM(B4:C4)","v":0}]
["組演武",{"$f":"COUNTA(男子エントリー!$C$15:$H$24)","v":0},{"$f":"COUNTA(女子エントリー!$C$15:$H$24)","v":0},0]
["団体演武",{"$f":"COUNTA(男子エントリー!$C$25:$H$32)-COUNTA(男子エントリー!$AF$25:$AF$32)","v":0},{"$f":"COUNTA(女子エントリー!$C$25:$H$32)-COUNTA(女子エントリー!$AF$25:$AF$32)","v":0},0,"団体演武のエントリー数から重複人数を引いた数になります。"]
["マネージャー",null,null,0,"マネージャー人数は手入力でお願いします。\nチームの性別ではなく、マネージャー本人の性別\nの人数を入力してください。"]
["合計",{"$f":"SUM(B4:B7)","v":0},{"$f":"SUM(C4:C7)","v":0},{"$f":"SUM(D4:D7)","v":0},"実参加人数です。この人数で参加料が請求されます。"]

{"sheet":"データテーブル","index":3,"n_rows":10,"n_cols":12,"rows_kept":10,"cut":false,"hidden":false,"merged":[]}
["学校名","略称","郵便番号","住所","ＴＥＬ","ＦＡＸ",null,"男",1,"三段","H","○"]
["宮崎県立 延岡工業 高等学校","延岡工業","882-0863","延岡市緑ヶ丘1丁目8-1","0982-33-3323","0982-33-3324",null,"女",2,"二段","R"]
["宮崎県立 都城工業 高等学校","都城工業","885-0084","都城市五十町2400番地","0986-22-4349","0986-22-5877",null,null,3,"初段"]
["学校法人久保学園 都城 高等学校","都　城","885-0095","都城市簑原町7916番地","0986-23-2477","0986-26-5220",null,null,null,"１級"]
[null,null,null,null,null,null,null,null,null,"２級"]
[null,null,null,null,null,null,null,null,null,"３級"]
[null,null,null,null,null,null,null,null,null,"４級"]
[null,null,null,null,null,null,null,null,null,"５級"]
[null,null,null,null,null,null,null,null,null,"６級"]
[null,null,null,null,null,null,null,null,null,"見習い"]